{"text_format":"2","workbook":"xlsx","n_sheets":11,"sheets":["NL Premiums","NL Claim Ratios","NL Expense Ratios","Technical Accounts","Frequencies","Life Premiums","Life Premiums incl A&H","Life Claims ","Life New Business","Life In Force Business","L Technical Account"],"not_rendered":{"charts":0,"images":3,"macros":0,"external_links":0,"defined_names":11,"comments":0,"pivot_tables":0},"unopened":[],"bounds":{"document_bytes":16777216,"sheet_cells":100000,"run_cost":"one","rows_first":2000,"rows_last":500,"rows_between":2000,"halvings":0,"cell_chars":16384,"cell_head_chars":4096},"cells_cut":0,"cells_raw":0,"read":"whole","date_system":"1900"}

{"sheet":"NL Premiums","index":0,"n_rows":106,"n_cols":12,"rows_kept":106,"cut":false,"hidden":false,"merged":[]}
[]
[]
[]
[]
[null,"FINANCIAL PERIOD (ΟΙΚΟΝΟΜΙΚΗ ΠΕΡΙΟΔΟΣ) : 01/01/18 - 30/06/18"]
[null,"CURRENCY (ΝΟΜΙΣΜΑ) :  EURO (ΕΥΡΩ)"]
[]
[null,"TOTAL GROSS WRITTEN PREMIUMS - NON LIFE",null,null,"(preliminary results, non audited)"]
[null,"Total gross written premiums before deduction of reinsurance, excluding policy fees and allocations from Cyprus Hire Risk Pool & OSEDA."]
[null,"Including A&H premiums by Life Companies"]
[]
[null,"ΣΥΝΟΛΟ ΜΙΚΤΩΝ ΕΓΓΕΓΡΑΜΜΕΝΩΝ ΑΣΦΑΛΙΣΤΡΩΝ – ΓΕΝΙΚΟΥ ΚΛΑΔΟΥ      (προκαταρκτικά αποτελέσματα μη ελεγμένα)"]
[null,"Σύνολο μικτών εγγεγραμμένων ασφαλίστρων πριν την αφαίρεση της αντασφάλισης, εξαιρουμένων των δικαιωμάτων συμβολαίων και της κατανομής ασφαλίστρων από την Κοινοπραξία και τον ΟΣΕΔΑ."]
[null,"Συμπεριλαμβανομένων ασφαλίστρων Ατυχημάτων και Υγείας από Εταιρείες Ζωής"]
[]
[]
[{"$nulls":9},"Semi Annual 2018","Semi Annual 2017","% Change"]
[null,null,"A&H","MOTOR","MAT","FIRE","LIABILITY","CREDIT","MISC"]
[null,"Allianz Hellas",28801.09,1389075.2100000002,3980.88,5473795.5800000001,321920.12,0,0,{"$f":"SUM(C19:I19)","v":7217572.8799999999},7728128.4899999993,{"$f":"(J19-K19)/K19","v":-6.6064586097480824E-2}]
[null,"Altius",4375506.9830684941,1686952.24,40112.76,2383448.8873999999,1256095.3026000001,0,0,{"$f":"SUM(C20:I20)","v":9742116.1730684936},9106507.8346301354,{"$f":"(J20-K20)/K20","v":6.9797154955632199E-2}]
[null,"AIG",257744,3351946,363528,3517993,5314535,0,154965,12960711,12301330,5.3602415348584259E-2]
[null,"Atlantic",1982304.6199999999,5549287.54,157364.67000000001,3299199.16,729234.25,10751.4,7727,11735868.640000001,10719589.960000001,9.4805741991272924E-2]
[null,"Commercial General Insurance",55031.819999999992,3091299.1700000004,35542.019999999997,1209160.1200000001,327258.74000000005,3586.49,32763.75,4754642.1100000013,4880850.0200000014,-2.5857772618057235E-2]
[null,"Cosmos",1587000.1800000002,5884019.4900000002,107061.56999999999,1067118.68,412978.54,0,5812,9063990.459999999,9084779.7799999993,-2.288368073133447E-3]
[null,"Ethniki General Insurance",5332208,2617617,39413,1162140,443266,0,55880,9650524,9538042,1.1792986443129523E-2]
[null,"Eurolife",11426255.559999999,0,0,0,0,0,0,11426255.559999999,8841628.75,{"$f":"(J26-K26)/K26","v":0.29232473824463606}]
[null,"Eurosure",339369.1,2438996.85,13705.27,552354.92000000004,741608.66,0,41073,4127107.8000000003,4593351.96,-0.10150412249271656]
[null,"Gan Direct",139317,5275363,768,483260,6221,0,0,5904929,6009341,-1.7374950098521618E-2]
[null,"General Insurance of Cyprus ",817966,6692520,288814,12398484,3490582,19170,1794944,25502480,24682662,3.3214326720513374E-2]
[null,"Hellenic Alico",276383.48,0,0,0,0,0,0,276383.48,265337.41000000003,{"$f":"(J30-K30)/K30","v":4.1630277464455342E-2}]
[null,"Hydra",248777,5116799,32118,800605,346046,0,0,6544345,6394769,2.3390367971071354E-2]
[null,"Kentriki",52833.440000000002,1180758.67,100930.94,496966.20999999996,222367.29,0,15418.47,2069275.0199999998,1765000,0.17239377903682707]
[null,"CNP Asfalistiki",466497.07,11121023.720000001,287022.36,8534449.7400000002,3505354.26,21163.78,339344.5,24274855.43,24171821.259999998,4.2625737172111537E-3]
[null,"CNP Cyprialife",7318886,0,0,0,0,0,0,7318886,6644627,0.10147431902498064]
[null,"Lumen",2575,819281,1955,260097,213885,0,0,1297793,1235898,5.0080993738965511E-2]
[null,"Metlife",11603457.309999999,0,0,0,0,0,0,11603457.309999999,9761614.3800000027,0.18868220545298733]
[null,"Minerva",377570,4494811,12544,280587,306947,0,13536,{"$f":"SUM(C37:I37)","v":5485995},5341657,2.7021203345703404E-2]
[null,"Pancyprian",502945.39,7539256.1399999997,140837.65,5986301.6899999995,1579593.95,0,183781.36,15932716.179999998,15920761.489999998,7.5088682205988379E-4]
[null,"Prime",681021.35,4695022.6100000003,19027.57,903220.16999999993,317332.49,0,251268.11000000002,{"$f":"SUM(C39:I39)","v":6866892.3000000007},7664449.0300000003,-0.10405923855429429]
[null,"Progressive",11480.75,1505190.7,19989.61,529806.47,203684.71000000002,20486.3,15795,2306433.54,2282600.3499999996,1.0441245222800571E-2]
[null,"Royal Crown",19565,2136827,108353,1509405,377855,0,25052,4177057,4297568,-2.8041673802485498E-2]
[null,"Trust",2953212,8884051,102166,3020228,2268773,0,53894,17282324,15430105,0.12003929979737663]
[null,"Universal Life",24212594.970000003,0,0,0,0,0,0,24212594.970000003,21420645.539999999,0.13033918257908877]
[null,"Ydrogios",741267.1,3743088.3699999992,75759.64,1678084.31,1014838.5600000002,2799.56,0,{"$f":"SUM(C44:I44)","v":7255837.5399999982},6266993,0.15778612486083807]
[null,"Interamerican Hellenic Insurance ",0,1182660.1600000001,0,-47676.270000000004,0,0,0,{"$f":"SUM(C45:I45)","v":1134983.8900000001},115807.73,8.8005883545079442]
[null,"TOTAL Semi Annual 2018",{"$f":"SUM(C19:C45)","v":75810570.2130685},90395845.870000005,1950993.9399999997,55499028.667400002,23400376.872599997,77957.53,2991254.19,250126027.28306848]
[null,"TOTAL Semi Annual 2017",67044721.054630138,86236566.760000005,1938305.97,54828281.180719994,22449006.979280002,38386.86,3930597.1799999997,null,{"$f":"SUM(K19:K45)","v":236465865.98463011}]
[]
[null,"% Change Semi Annual 2017-2018",{"$f":"C46/C47-1","v":0.13074629919476699},4.8231037786736763E-2,6.5459066815956035E-3,1.2233604122462882E-2,4.2379152636822237E-2,1.030838938115803,-0.23898225816159568,{"$f":"J46/K47-1","v":5.7768004872746692E-2}]
[null,"% Change Semi Annual 2016-2017",0.10393385370836605,2.3602603900963359E-2,2.9177301232473418E-2,7.337257186297963E-3,4.8402290143183535E-3,-0.39903850820358411,-0.17365358300401312,4.3825078696229092E-2]
[]
[null,"Notes:"]
[null,"* Data for preparing these results are based on records of companies representing 96% marketshare of the non-life market."]
{"$rows_empty":9}
[null,"FINANCIAL PERIOD (ΟΙΚΟΝΟΜΙΚΗ ΠΕΡΙΟΔΟΣ) : 01/01/18 - 30/06/18"]
[null,"CURRENCY (ΝΟΜΙΣΜΑ) :  EURO (ΕΥΡΩ)"]
[]
[null,"TOTAL GROSS WRITTEN PREMIUMS - NON LIFE",null,null,"(preliminary results, non audited)"]
[null,"Total gross written premiums before deduction of reinsurance, excluding policy fees and allocations from Cyprus Hire Risk Pool & OSEDA."]
[null,"Excluding A&H premiums by Life Companies"]
[]
[null,"ΣΥΝΟΛΟ ΜΙΚΤΩΝ ΕΓΓΕΓΡΑΜΜΕΝΩΝ ΑΣΦΑΛΙΣΤΡΩΝ – ΓΕΝΙΚΟΥ ΚΛΑΔΟΥ      (προκαταρκτικά αποτελέσματα μη ελεγμένα)"]
[null,"Σύνολο μικτών εγγεγραμμένων ασφαλίστρων πριν την αφαίρεση της αντασφάλισης, εξαιρουμένων των δικαιωμάτων συμβολαίων και της κατανομής ασφαλίστρων από την Κοινοπραξία και τον ΟΣΕΔΑ."]
[null,"Μη συμπεριλαμβανομένων ασφαλίστρων Ατυχημάτων και Υγείας από Εταιρείες Ζωής"]
[]
[]
[{"$nulls":9},"Semi Annual 2018","Semi Annual 2017","% Change"]
[null,null,"A&H","MOTOR","MAT","FIRE","LIABILITY","CREDIT","MISC","TOTAL","TOTAL"]
[null,"Allianz Hellas",{"$f":"C19","v":28801.09},1389075.2100000002,3980.88,5473795.5800000001,321920.12,0,0,{"$f":"SUM(C77:I77)","v":7217572.8799999999},7728128.4899999993,{"$f":"(J77-K77)/K77","v":-6.6064586097480824E-2}]
[null,"Altius",4375506.9830684941,1686952.24,40112.76,2383448.8873999999,1256095.3026000001,0,0,{"$f":"SUM(C78:I78)","v":9742116.1730684936},9106507.8346301354,{"$f":"(J78-K78)/K78","v":6.9797154955632199E-2}]
[null,"AIG",257744,3351946,363528,3517993,5314535,0,154965,12960711,12301330,{"$f":"(J79-K79)/K79","v":5.3602415348584259E-2}]
[null,"Atlantic",1982304.6199999999,5549287.54,157364.67000000001,3299199.16,729234.25,10751.4,7727,11735868.640000001,10719589.960000001,9.4805741991272924E-2]
[null,"Commercial General Insurance",55031.819999999992,3091299.1700000004,35542.019999999997,1209160.1200000001,327258.74000000005,3586.49,32763.75,4754642.1100000013,4880850.0200000014,-2.5857772618057235E-2]
[null,"Cosmos",1587000.1800000002,5884019.4900000002,107061.56999999999,1067118.68,412978.54,0,5812,9063990.459999999,9084779.7799999993,-2.288368073133447E-3]
[null,"Ethniki General Insurance",5332208,2617617,39413,1162140,443266,0,55880,9650524,9538042,1.1792986443129523E-2]
[null,"Eurosure",{"$f":"C27","v":339369.1},2438996.85,13705.27,552354.92000000004,741608.66,0,41073,4127107.8000000003,4593351.96,-0.10150412249271656]
[null,"Gan Direct",139317,5275363,768,483260,6221,0,0,5904929,6009341,-1.7374950098521618E-2]
[null,"General Insurance of Cyprus ",817966,6692520,288814,12398484,3490582,19170,1794944,25502480,24682662,3.3214326720513374E-2]
[null,"Hydra",{"$f":"C31","v":248777},5116799,32118,800605,346046,0,null,6544345,6394769,2.3390367971071354E-2]
[null,"Kentriki",52833.440000000002,1180758.67,100930.94,496966.20999999996,222367.29,0,{"$f":"I32","v":15418.47},2069275.0199999998,1765000,0.17239377903682707]
[null,"CNP Asfalistiki",466497.07,11121023.720000001,287022.36,8534449.7400000002,3505354.26,21163.78,{"$f":"I33","v":339344.5},24274855.43,24171821.259999998,4.2625737172111537E-3]
[null,"Lumen",{"$f":"C35","v":2575},819281,1955,260097,213885,0,0,1297793,1235898,5.0080993738965511E-2]
[null,"Minerva",{"$f":"C37","v":377570},4494811,12544,280587,306947,0,13536,5485995,5341657,2.7021203345703404E-2]
[null,"Pancyprian",502945.39,7539256.1399999997,140837.65,5986301.6899999995,1579593.95,0,183781.36,15932716.179999998,15920761.489999998,7.5088682205988379E-4]
[null,"Prime",681021.35,4695022.6100000003,19027.57,903220.16999999993,317332.49,0,251268.11000000002,6866892.3000000007,7664449.0300000003,-0.10405923855429429]
[null,"Progressive",11480.75,1505190.7,19989.61,529806.47,203684.71000000002,20486.3,15795,2306433.54,2282600.3499999996,1.0441245222800571E-2]
[null,"Royal Crown",19565,2136827,108353,1509405,377855,0,25052,4177057,4297568,-2.8041673802485498E-2]
[null,"Trust",2953212,8884051,102166,3020228,2268773,0,53894,17282324,15430105,0.12003929979737663]
[null,"Ydrogios",{"$f":"C44","v":741267.1},3743088.3699999992,75759.64,1678084.31,1014838.5600000002,2799.56,0,7255837.5399999982,6266993,0.15778612486083807]
[null,"Interamerican",0,1182660.1600000001,0,-47676.270000000004,0,0,0,1134983.8900000001,115807.73,8.8005883545079442]
[null,"TOTAL Semi Annual 2018",{"$f":"SUM(C77:C98)","v":20972992.893068496},{"$f":"SUM(D77:D98)","v":90395845.870000005},1950993.9399999997,55499028.667400002,23400376.872599997,77957.53,2991254.19,195288449.96306849]
[null,"TOTAL Semi Annual 2017",20110867.974630132,86236566.760000005,1938305.97,54828281.180719994,22449006.979280002,38386.86,3930597.1799999997,null,{"$f":"SUM(K77:K98)","v":189532012.90463012}]
[]
[null,"% Change Semi Annual 2017-2018",{"$f":"C99/C100-1","v":4.2868608133966868E-2},{"$f":"D99/D100-1","v":4.8231037786736763E-2},{"$f":"E99/E100-1","v":6.5459066815956035E-3},1.2233604122462882E-2,4.2379152636822237E-2,1.030838938115803,-0.23898225816159568,{"$f":"J99/K100-1","v":3.0371845738455416E-2}]
[null,"% Change Semi Annual 2016-2017",0.12160562109633632,2.3602603900963359E-2,2.9177301232473418E-2,7.337257186297963E-3,4.8402290143183535E-3,-0.39903850820358411,-0.17357228756654774,3.2195907856215511E-2]
[]
[null,"Notes:"]
[null,"* Data for preparing these results are based on records of companies representing 96% marketshare of the non-life market."]

{"sheet":"NL Claim Ratios","index":1,"n_rows":66,"n_cols":10,"rows_kept":66,"cut":false,"hidden":false,"merged":[]}
[]
[]
[]
[]
[]
[]
[null,"FINANCIAL PERIOD (ΟΙΚΟΝΟΜΙΚΗ ΠΕΡΙΟΔΟΣ) : 01/01/18 - 30/06/18"]
[null,"CURRENCY (ΝΟΜΙΣΜΑ) :  EURO (ΕΥΡΩ)"]
[]
[null,"GROSS CLAIMS RATIO- NON LIFE",null,null,"(preliminary results, non audited)"]
[null,"Gross claims incurred / Gross premiums earned"]
[]
[null,"ΜΙΚΤΟΣ ΔΕΙΚΤΗΣ ΖΗΜΙΩΝ – ΓΕΝΙΚΟΥ ΚΛΑΔΟΥ   (προκαταρκτικά αποτελέσματα μη ελεγμένα)"]
[null,"Μεικτές ζημιές που έχουν επισυμβεί / Μεικτά Δεδουλευμένα Ασφάλιστρα"]
[]
[]
[null,"GROSS CLAIMS INCURED","A&H","MOTOR","MAT","FIRE","LIABILITY","CREDIT","MISC","TOTAL"]
[null,"Semi Annual 2018",58385040.705568671,57385960.59397997,213003.32469458232,6045662.9839897593,6454797.5789673151,1584.0497191275406,3795392.8735125754,{"$f":"SUM(C18:I18)","v":132281442.11043201}]
[null,"Semi Annual 2017",44299992.927234456,51381054.407973558,332717.0461377569,16802591.713236876,8888815.2359440029,-111742.44509266297,179854.17668303149,{"$f":"SUM(C19:I19)","v":121773283.06211703}]
[]
[null,"GROSS PREMIUMS EARNED","A&H","MOTOR","MAT","FIRE","LIABILITY","CREDIT","MISC","TOTAL"]
[null,"Semi Annual 2018",72762463.192636907,83293267.735758364,1814878.5951477357,51759686.803728849,21041003.232169472,51415.239811643834,2697102.8328367579,{"$f":"SUM(C22:I22)","v":233419817.6320897}]
[null,"Semi Annual 2017",63956069.188531198,83166990.550532207,1791131.5103853731,52590272.610721365,19773202.60951307,96262.390416666676,3618159.6720833327,{"$f":"SUM(C23:I23)","v":224992088.53218317}]
[]
[null,"GROSS CLAIMS RATIO ","A&H","MOTOR","MAT","FIRE","LIABILITY","CREDIT","MISC","TOTAL"]
[null,"Semi Annual 2018",{"$f":"C18/C22","v":0.80240605036962054},0.68896277158956731,0.11736505420476531,{"$f":"F18/F22","v":0.11680254184911761},0.30677232961490219,3.0808953238973442E-2,{"$f":"I18/I22","v":1.4072110367110691},{"$f":"J18/J22","v":0.56671041667477695}]
[null,"Semi Annual 2017",0.69266284637734532,0.61780586345437694,0.18575802179158288,0.31949999266235785,0.44953846938621422,-1.1608110354313008,4.9708745048134273E-2,0.54123362228667171]
[]
[null,"Notes:"]
[null,"* Data for preparing these results are based on records of companies representing 96% marketshare of the non-life market."]
{"$rows_empty":12}
[null,"FINANCIAL PERIOD (ΟΙΚΟΝΟΜΙΚΗ ΠΕΡΙΟΔΟΣ) : 01/01/18 - 30/06/18"]
[null,"CURRENCY (ΝΟΜΙΣΜΑ) :  EURO (ΕΥΡΩ)"]
[]
[null,"NET CLAIMS RATIO- NON LIFE",null,null,"(preliminary results, non audited)"]
[null,"Net claims incurred / Net premiums earned"]
[]
[null,"ΚΑΘΑΡΟΣ ΔΕΙΚΤΗΣ ΖΗΜΙΩΝ – ΓΕΝΙΚΟΥ ΚΛΑΔΟΥ (προκαταρκτικά αποτελέσματα μη ελεγμένα)"]
[null,"Καθαρές ζημιές που έχουν επισυμβεί / Καθαρά Δεδουλευμένα Ασφάλιστρα"]
[]
[]
[null,"NET CLAIMS INCURED","A&H","MOTOR","MAT","FIRE","LIABILITY","CREDIT","MISC","TOTAL"]
[null,"Semi Annual 2018",37891946.659702979,55595139.862967864,215801.03469458234,5529575.283989761,5432347.8846194874,1163.3197191275374,68477.113512576354,{"$f":"SUM(C54:I54)","v":104734451.15920636}]
[null,"Semi Annual 2017",27624042.49318805,49943199.177973561,241558.30613775694,11337165.113236872,6381466.0959440013,-21618.235092663006,58658.256683031526,{"$f":"SUM(C55:I55)","v":95564471.208070606}]
[]
[null,"NET PREMIUMS EARNED","A&H","MOTOR","MAT","FIRE","LIABILITY","CREDIT","MISC","TOTAL"]
[null,"Semi Annual 2018",45851765.497155257,77860828.569241539,2650753.4423581585,19739536.227769352,16077271.477927972,31584.059394977161,616523.62049451645,{"$f":"SUM(C58:I58)","v":162828262.8943418}]
[null,"Semi Annual 2017",40728830.288513698,76907742.199566647,997391.02467041393,23727021.237699527,15089994.478555875,32106.899583333357,599974.72317225905,{"$f":"SUM(C59:I59)","v":158083060.85176176}]
[]
[null,"NET CLAIMS RATIO ","A&H","MOTOR","MAT","FIRE","LIABILITY","CREDIT","MISC","TOTAL"]
[null,"Semi Annual 2018",{"$f":"C54/C58","v":0.82640103928067676},{"$f":"D54/D58","v":0.71403221471663603},8.141120605415561E-2,0.28012690978072818,0.33788991447195521,3.6832495297059287E-2,{"$f":"I54/I58","v":0.11106973234480545},{"$f":"J54/J58","v":0.64322034330838418}]
[null,"Semi Annual 2017",0.67824296198799883,0.64939104633154832,0.24219017432764592,0.47781662095971034,0.42289386553537778,-0.67332054397071084,9.7767879908150931E-2,{"$f":"J55/J59","v":0.60452062791018246}]
[]
[null,"Note"]
[null,"* Data for preparing these results are based on records of companies representing 96% marketshare of the non-life market."]

{"sheet":"NL Expense Ratios","index":2,"n_rows":60,"n_cols":10,"rows_kept":60,"cut":false,"hidden":false,"merged":[]}
[]
[]
[]
[]
[]
[]
[null,"FINANCIAL PERIOD (ΟΙΚΟΝΟΜΙΚΗ ΠΕΡΙΟΔΟΣ) : 01/01/18 - 30/06/18"]
[null,"CURRENCY (ΝΟΜΙΣΜΑ) :  EURO (ΕΥΡΩ)"]
[]
[null,"EXPENSES, COMMISSIONS PAID & COMMISIONS RECEIVED",{"$nulls":4},"(preliminary results, non audited)"]
[]
[null,"ΕΞΟΔΑ, ΠΡΟΜΗΘΕΙΕΣ ΕΙΣΠΡΑΚΤΕΕΣ & ΠΡΟΜΗΘΕΙΕΣ ΠΛΗΡΩΤΕΕΣ   (προκαταρκτικά αποτελέσματα μη ελεγμένα)"]
[]
[]
[]
[null,"Maintainance/Renewal Expenses","A&H","MOTOR","MAT","FIRE","LIABILITY","CREDIT","MISC","TOTAL"]
[null,"Semi Annual 2018",4837415.2751039835,9686487.5266090222,219655.93476183864,4021517.5894658952,2079404.3005963983,20573.542216077385,157496.94281783106,{"$f":"SUM(C17:I17)","v":21022551.111571044}]
[null,"Semi Annual 2017",3974090.3083656686,8489452.6879024822,230254.95451285638,3976195.855995445,2135684.5999483638,7557.6437842543037,112919.66196443426,{"$f":"SUM(C18:I18)","v":18926155.712473508}]
[]
[null,"Commissions & other Acq. expenses","A&H","MOTOR","MAT","FIRE","LIABILITY","CREDIT","MISC","TOTAL"]
[null,"Semi Annual 2018",11117709.313868349,22151824.51954652,366631.34500821307,12615948.895923661,4010440.1601734571,16726.71688340274,1070617.3495331416,{"$f":"SUM(C21:I21)","v":51349898.300936744}]
[null,"Semi Annual 2017",8431918.71387114,20592598.347668804,425267.17256268434,12730435.62569692,3892273.7147372193,14534.204434663996,921419.05624520592,{"$f":"SUM(C22:I22)","v":47008446.835216641}]
[]
[null,"Reins. Commissions & Profit Commissions","A&H","MOTOR","MAT","FIRE","LIABILITY","CREDIT","MISC","TOTAL"]
[null,"Semi Annual 2018",5253427.9959847108,-59272.9,274036.59474999999,7652145.8690348947,952587.04999999993,12549.03,290806.92702500004,{"$f":"SUM(C25:I25)","v":14376280.566794604}]
[null,"Semi Annual 2017",4561178.2554950016,108511.19035981357,242673.7986337223,7276088.6575276591,1166888.403544791,11489.029999999999,276927.38622790645,{"$f":"SUM(C26:I26)","v":13643756.721788893}]
[]
[]
[null,"GROSS PREMIUMS EARNED","A&H","MOTOR","MAT","FIRE","LIABILITY","CREDIT","MISC","TOTAL"]
[null,"Semi Annual 2018",72762463.192636907,83293267.735758364,1814878.5951477357,51759686.803728849,21041003.232169472,51415.239811643834,2697102.8328367579,{"$f":"SUM(C30:I30)","v":233419817.6320897}]
[null,"Semi Annual 2017",63956069.188531198,83166990.550532207,1791131.5103853731,52590272.610721365,19773202.60951307,96262.390416666676,3618159.6720833327,{"$f":"SUM(C31:I31)","v":224992088.53218317}]
[]
[null,"NET PREMIUMS EARNED","A&H","MOTOR","MAT","FIRE","LIABILITY","CREDIT","MISC","TOTAL"]
[null,"Semi Annual 2018",45851765.497155257,77860828.569241539,2650753.4423581585,19739536.227769352,16077271.477927972,31584.059394977161,616523.62049451645,{"$f":"SUM(C34:I34)","v":162828262.8943418}]
[null,"Semi Annual 2017",40728830.288513698,76907742.199566647,997391.02467041393,23727021.237699527,15089994.478555875,32106.899583333357,599974.72317225905,{"$f":"SUM(C35:I35)","v":158083060.85176176}]
[]
[]
[null,"GROSS Expense Ratio ","A&H","MOTOR","MAT","FIRE","LIABILITY","CREDIT","MISC","TOTAL"]
[null,"Semi Annual 2018",{"$f":"C17/C30","v":6.6482291319592088E-2},{"$f":"D17/D30","v":0.11629376286855111},0.12103064929473042,7.7695941335877219E-2,9.8826290631295027E-2,0.40014482654261907,5.839486018120376E-2,9.0063265942167112E-2]
[null,"Semi Annual 2017",{"$f":"C18/C31","v":6.2137813639714976E-2},{"$f":"D18/D31","v":0.10207718990077315},0.12855279089100252,7.5607059226097909E-2,0.10800903840032804,7.8510867552129562E-2,3.1209142823543558E-2,8.4119205417155299E-2]
[null,"Maintenance & Renewal Expenses / Gross Earned Premiums"]
[]
[null,"GROSS Acquisition Cost Ratio ","A&H","MOTOR","MAT","FIRE","LIABILITY","CREDIT","MISC","TOTAL"]
[null,"Semi Annual 2018",{"$f":"C21/C30","v":0.15279457052511369},0.26594975946701382,0.20201425372938975,0.24374082756263488,0.19060118550059998,0.32532605011043236,0.39695088244265719,0.21998945428820926]
[null,"Semi Annual 2017",0.13183922684515417,0.24760542868455432,0.23742934011092545,0.24206825699362544,0.19684589247391873,0.15098528482155346,0.25466511700813188,0.20893377692474946]
[null,"Commissions & other Acq. Expenses  / Gross Earned Premiums"]
[]
[null,"NET Expense Ratio ","A&H","MOTOR","MAT","FIRE","LIABILITY","CREDIT","MISC","TOTAL"]
[null,"Semi Annual 2018",{"$f":"C17/C34","v":0.10550117803869749},0.12440771187009449,8.2865471851063119E-2,0.20372908173032306,0.12933813448700876,0.65139005593907962,0.25545970597444756,0.12910873541169227]
[null,"Semi Annual 2017",9.7574378645645457E-2,0.11038489032577942,0.23085725539684268,0.16758091191311128,0.1415298463484097,0.23539002153223992,0.18820736541598243,0.11972285715179196]
[null,"Maintenance & Renewal Expenses / Net Earned Premiums"]
[]
[null,"NET Acquisition Cost Ratio ","A&H","MOTOR","MAT","FIRE","LIABILITY","CREDIT","MISC","TOTAL"]
[null,"Semi Annual 2018",{"$f":"(C21-C25)/C34","v":0.12789652163442805},{"$f":"(D21-D25)/D34","v":0.28526664598481916},3.493148354674553E-2,0.25146502783108682,0.19019726788662472,0.1322720056709088,1.2648508452646987,0.2270712533372298]
[null,"Semi Annual 2017",{"$f":"(C22-C26)/C35","v":9.5036867765577862E-2},0.26634622954026094,0.18307100165584475,0.22987912867473337,0.18060876795319078,9.4844861203750186E-2,1.0741980372267435,0.21105797125673453]
[null,"(Commissions & other Acq. expenses - Reins. Commissions & Profit Commissions)  / Net Earned Premiums"]
[]
[]
[null,"Notes:"]
[null,"* Data for preparing these results are based on records of companies representing 96% marketshare of the non-life market."]

{"sheet":"Technical Accounts","index":3,"n_rows":99,"n_cols":19,"rows_kept":99,"cut":false,"hidden":false,"merged":[[10,2,10,8],[13,1,13,3],[44,2,45,2],[44,3,45,4],[44,5,45,6],[44,7,45,8],[44,9,45,10],[44,11,45,12],[44,13,45,14],[44,15,45,16],[44,17,45,18]]}
[]
[]
[]
[]
[]
[null,null,"FINANCIAL PERIOD (ΟΙΚΟΝΟΜΙΚΗ ΠΕΡΙΟΔΟΣ) : 01/01/18 - 30/06/18"]
[null,null,"CURRENCY (ΝΟΜΙΣΜΑ) :  EURO (ΕΥΡΩ)"]
[]
[]
[null,null,"TECHNICAL ACCOUNTS   NON LIFE BUSINESS ",null,null,null," (preliminary results, non audited)           "]
[]
[null,null,"ΤΕΧΝΙΚΟΙ ΛΟΓΑΡΙΑΣΜΟΙ ΓΕΝΙΚΟΥ ΚΛΑΔΟΥ ",null,null,null,"(προκαταρκτικά αποτελέσματα, μη ελεγμένα)"]
[]
[{"$nulls":4},"A&H","MOTOR","MAT","FIRE","LIABILITY","CREDIT","MISC","Semi Annual 2018","Semi Annual 2017"]
[]
[null,null,"Premiums"]
[]
[null,null,"Gross Premiums written",null,75810570.2130685,90395845.870000005,1950993.9399999997,55485701.407400005,23400376.872599997,77957.53,2991254.19,{"$f":"SUM(E18:K18)","v":250112700.02306849},236465865.98463017]
[null,null,"Gross premiums earned ",null,72762463.192636907,83293267.735758364,1814878.5951477357,51759686.803728849,21041003.232169472,51415.239811643834,2697102.8328367579,{"$f":"SUM(E19:K19)","v":233419817.6320897},223106640.95161521]
[null,null,"Reinsurance premiums",null,27741778.448546857,11041386.735394046,853760.49732299987,30732719.846601557,5406556.7160256505,31653.51999999999,2316329.5499999998,{"$f":"SUM(E20:K20)","v":78124185.313891098},76213072.499607474]
[null,null,"Net premiums written ",null,48068791.764521644,79354459.134605959,1097233.4426769998,24752981.560798448,17993820.156574346,46304.010000000009,674924.64,{"$f":"SUM(E21:K21)","v":171988514.70917737},160252793.48502266]
[null,null,"Net premiums earned ",null,45851765.497155257,77860828.569241539,2650753.4423581585,19739536.227769352,16077271.477927972,31584.059394977161,616523.62049451645,{"$f":"SUM(E22:K22)","v":162828262.8943418},156331834.78354928]
[]
[null,null,"Claims"]
[]
[null,null,"Gross Claims incured",null,58385040.705568671,57385960.59397997,213003.32469458232,6045662.9839897593,6454797.5789673151,1584.0497191275406,3795392.8735125754,{"$f":"SUM(E26:K26)","v":132281442.11043201},121773283.06211703]
[null,null,"Net Claims Incurred",null,37891946.659702979,55595139.862967864,215801.03469458234,5529575.283989761,5432347.8846194874,1163.3197191275374,68477.113512576354,{"$f":"SUM(E27:K27)","v":104734451.15920636},96557542.103233621]
[]
[null,null,"Expenses"]
[]
[null,null,"Operating Expenses",null,4837415.2751039835,9686487.5266090222,219655.93476183864,4021517.5894658952,2079404.3005963983,20573.542216077385,157496.94281783106,{"$f":"SUM(E31:K31)","v":21022551.111571044},19534535.132473506]
[null,null,"Commission Payable & Acquisition costs",null,11117709.313868349,22151824.51954652,366631.34500821307,12615948.895923661,4010440.1601734571,16726.71688340274,1070617.3495331416,{"$f":"SUM(E32:K32)","v":51349898.300936744},47242625.831947155]
[null,null,"Total Expenses",null,15955124.588972334,31838312.046155542,586287.27977005171,16637466.485389557,6089844.4607698554,37300.259099480128,1228114.2923509725,{"$f":"SUM(E33:K33)","v":72372449.412507802},66777160.964420654]
[]
[]
[null,null,"Reinsurance Commissions and profit participations",null,5253427.9959847108,-59272.9,274036.59474999999,7652145.8690348947,952587.04999999993,12549.03,290806.92702500004,{"$f":"SUM(E36:K36)","v":14376280.566794604},13731933.161788894]
[null,null,"Other Income"]
[null,null,"Policy Fees",null,609478.44393500977,7391631.5905365292,47729.6020291491,3963076.879751347,511851.43520065938,1089.2437214185081,30899.124825886571,{"$f":"SUM(E38:K38)","v":12555756.32},12235898.109999999]
[null,null,"Other Expenses"]
[]
[]
[null,null,"Underwriting Results  Semi Annual 2018",null,{"$f":"E22-E27-E33+E36+E37+E38+E39","v":-2132399.3116003359},{"$f":"F22-F27-F33+F36+F37+F38+F39","v":-2240264.6493453383},2170431.3246726738,{"$f":"H22-H27-H33+H36+H37+H38+H39","v":9187717.2071762756},6019517.6177392881,{"$f":"J22-J27-J33+J36+J37+J38+J39","v":6758.7542977880057},-358361.7335181458,{"$f":"L22-L27-L33+L36+L37+L38+L39","v":12653399.209422238}]
[null,null,"Underwriting Results  Semi Annual 2017",null,5830361.570918316,4946458.8967340421,387837.10965532484,6947505.2305570832,4363645.4584765621,44221.016457078062,-192065.88065777978,null,18964962.9876839]
[]
[null,null,"FINANCIAL INDICATORS","A & H",null,"MOTOR",null,"MAT",null,"FIRE",null,"LIABILITY",null,"CREDIT",null,"OTHER",null,"TOTAL"]
[]
[null,null,null,"Semi Annual 2018","Semi Annual 2017","Semi Annual 2018","Semi Annual 2017","Semi Annual 2018","Semi Annual 2017","Semi Annual 2018","Semi Annual 2017","Semi Annual 2018","Semi Annual 2017","Semi Annual 2018","Semi Annual 2017","Semi Annual 2018","Semi Annual 2017","Semi Annual 2018","Semi Annual 2017"]
[null,null,"Gross Claims ratio",{"$f":"E26/E19","v":0.80240605036962054},0.69266284637734532,{"$f":"F26/F19","v":0.68896277158956731},0.61780586345437694,{"$f":"G26/G19","v":0.11736505420476531},0.18575802179158288,{"$f":"H26/H19","v":0.11680254184911761},0.31949999266235785,{"$f":"I26/I19","v":0.30677232961490219},0.44953846938621422,{"$f":"J26/J19","v":3.0808953238973442E-2},-1.1608110354313008,{"$f":"K26/K19","v":1.4072110367110691},4.9708745048134273E-2,{"$f":"L26/L19","v":0.56671041667477695},0.54123362228667171]
[null,null,"Gross Acquisition Cost Ratio",{"$f":"E32/E19","v":0.15279457052511369},0.13183922684515417,{"$f":"F32/F19","v":0.26594975946701382},0.24760542868455432,{"$f":"G32/G19","v":0.20201425372938975},0.23742934011092545,{"$f":"H32/H19","v":0.24374082756263488},0.24206825699362544,{"$f":"I32/I19","v":0.19060118550059998},0.19684589247391873,{"$f":"J32/J19","v":0.32532605011043236},0.15098528482155346,{"$f":"K32/K19","v":0.39695088244265719},0.25466511700813188,{"$f":"L32/L19","v":0.21998945428820926},0.20893377692474946]
[null,null,"Gross Expense Ratio",{"$f":"E31/E19","v":6.6482291319592088E-2},6.2137813639714976E-2,{"$f":"F31/F19","v":0.11629376286855111},0.10207718990077315,{"$f":"G31/G19","v":0.12103064929473042},0.12855279089100252,{"$f":"H31/H19","v":7.7695941335877219E-2},7.5607059226097909E-2,{"$f":"I31/I19","v":9.8826290631295027E-2},0.10800903840032804,{"$f":"J31/J19","v":0.40014482654261907},7.8510867552129562E-2,{"$f":"K31/K19","v":5.839486018120376E-2},3.1209142823543558E-2,{"$f":"L31/L19","v":9.0063265942167112E-2},8.4119205417155299E-2]
[null,null,"Gross Combined Ratio",{"$f":"D48+D49+D50","v":1.0216829122143263},0.8866398868622144,{"$f":"F48+F49+F50","v":1.0712062939251323},0.96748848203970439,{"$f":"H48+H49+H50","v":0.44040995722888543},0.55174015279351085,{"$f":"J48+J49+J50","v":0.43823931074762967},0.63717530888208118,{"$f":"L50+L49+L48","v":0.59619980574679721},0.75439340026046098,{"$f":"N50+N49+N48","v":0.75627982989202491},-0.93131488305761778,{"$f":"P50+P49+P48","v":1.86255677933493},0.33558300487980969,{"$f":"R50+R49+R48","v":0.8767631369051534},0.8342866046285764]
[null,null,"Net Claims Ratio",{"$f":"E27/E22","v":0.82640103928067676},0.67824296198799883,{"$f":"F27/F22","v":0.71403221471663603},0.64939104633154832,{"$f":"G27/G22","v":8.141120605415561E-2},0.24219017432764592,{"$f":"H27/H22","v":0.28012690978072818},0.47781662095971034,{"$f":"I27/I22","v":0.33788991447195521},0.42289386553537778,{"$f":"J27/J22","v":3.6832495297059287E-2},-0.67332054397071084,{"$f":"K27/K22","v":0.11106973234480545},9.7767879908150931E-2,{"$f":"L27/L22","v":0.64322034330838418},0.60452062791018246]
[null,null,"Net Acquisition Cost Ratio",{"$f":"(E32-E36)/E22","v":0.12789652163442805},9.5036867765577862E-2,{"$f":"(F32-F36)/F22","v":0.28526664598481916},0.26634622954026094,{"$f":"(G32-G36)/G22","v":3.493148354674553E-2},0.18307100165584475,{"$f":"(H32-H36)/H22","v":0.25146502783108682},0.22987912867473337,{"$f":"(I32-I36)/I22","v":0.19019726788662472},0.18060876795319078,{"$f":"(J32-J36)/J22","v":0.1322720056709088},9.4844861203750186E-2,{"$f":"(K32-K36)/K22","v":1.2648508452646987},1.0741980372267435,{"$f":"(L32-L36)/L22","v":0.2270712533372298},0.21105797125673453]
[null,null,"Net Expense Ratio",{"$f":"E31/E22","v":0.10550117803869749},9.7574378645645457E-2,{"$f":"F31/F22","v":0.12440771187009449},0.11038489032577942,{"$f":"G31/G22","v":8.2865471851063119E-2},0.23085725539684268,{"$f":"H31/H22","v":0.20372908173032306},0.16758091191311128,{"$f":"I31/I22","v":0.12933813448700876},0.1415298463484097,{"$f":"J31/J22","v":0.65139005593907962},0.23539002153223992,{"$f":"K31/K22","v":0.25545970597444756},0.18820736541598243,{"$f":"L31/L22","v":0.12910873541169227},0.11972285715179196]
[null,null,"Net Combined Ratio",{"$f":"D52+D53+D54","v":1.0597987389538022},0.87085420839922212,{"$f":"F52+F53+F54","v":1.1237065725715498},1.0261221661975886,{"$f":"H52+H53+H54","v":0.19920816145196424},0.65611843138033332,{"$f":"J52+J53+J54","v":0.735321019342138},0.87527666154755501,{"$f":"L54+L53+L52","v":0.65742531684558869},0.74503247983697829,{"$f":"N54+N53+N52","v":0.82049455690704765},-0.34308566123472073,{"$f":"P54+P53+P52","v":1.6313802835839517},1.3601732825508768,{"$f":"R54+R53+R52","v":0.99940033205730627},0.93530145631870898]
[]
[null,null,"Notes:"]
[null,null,"* Data for preparing these results are based on records of companies representing 96% marketshare of the non-life market."]
[]
[]
[]
[{"$nulls":5},"DEFINITIONS"]
[]
[null,null,"Premiums"]
[null,null,"Gross premiums written  ","Total written premiums before deduction of reinsurance, excluding policy fees and allocations from Cyprus Hire Risk Pool & OSEDA"]
[null,null,"Gross premiums earned ","Gross written premiums plus/minus any increase/decrease respectively of the gross Unearned Premium Reserved"]
[null,null,"Reinsurance premiums","Premiums ceded to Reinsurance companies"]
[]
[null,null,"Net premiums written ","Total written premiums less reinsurance"]
[null,null,"Net premiums earned ","Net premiums plus/minus any increase/decrease, respectively, of the net Unearned Premium Reserved"]
[]
[]
[null,null,"Claims"]
[null,null,"Gross incurred claims","Gross claims paid  - Gross claims reserves b/f  +  Gross claims reserves c/f "]
[null,null,"Net incurred claims","Net claims paid  - Net claims reserves b/f  +  Net claims reserves c/f "]
[]
[]
[]
[null,null,"Expenses"]
[null,null,"Operating Expenses","Total expenses allocated to the accounting classes (excluding claims and commissions reported above)"]
[null,null,"Commission Payable & Acquisition costs","Includes commission expense plus/minus any decrease/increase, in the deferred acquisition reserve"]
[]
[]
[]
[null,null,"Reinsurance Commissions and profit participations","Total commission receivable from reinsurers and profit allocation from insurance pools"]
[null,null,"Policy Fees","Charges for the issuing, renewal or endorsement of a policy"]
[]
[]
[]
[null,null,"KEY INDICATORS"]
[]
[null,null,"GROSS CLAIMS RATIO","(GROSS CLAIMS INCURRED)/GROSS PREMIUMS EARNED) "]
[null,null,"GROSS ACQUISITION COST RATIO","((COMMISSION+ACQUISITION COSTS)/GROSS PREMIUMS EARNED) "]
[null,null,"GROSS EXPENSE RATIO","(OPERATING EXPENSES/GROSS PREMIUMS EARNED) "]
[null,null,"GROSS COMBINED RATIO","(GROSS CLAIMS RATIO+GROSS EXPENSE RATIO)+GROSS ACQUISITION COST RATIO) "]
[null,null,"NET CLAIMS RATIO","(NET CLAIMS INCURRED)/NET PREMIUMS EARNED) "]
[null,null,"NET ACQUISITION COST RATIO","((COMMISSION+ACQUISITION COSTS-REINSURANCE COMMISSION&PROFIT PARTICIPATION)/NET PREMIUMS EARNED) "]
[null,null,"NET EXPENSE RATIO","(OPERATING EXPENSES/NET PREMIUMS EARNED)"]
[null,null,"NET COMBINED RATIO","(NET CLAIMS RATIO+NET EXPENSE RATIO)+NET ACQUISITION COST RATIO) "]

{"sheet":"Frequencies","index":4,"n_rows":26,"n_cols":11,"rows_kept":26,"cut":false,"hidden":false,"merged":[[8,1,8,7]]}
[]
[]
[]
[]
[null,"FINANCIAL PERIOD (ΟΙΚΟΝΟΜΙΚΗ ΠΕΡΙΟΔΟΣ) : 01/01/18 - 30/06/18"]
[null,"CURRENCY (ΝΟΜΙΣΜΑ) :  EURO (ΕΥΡΩ)"]
[]
[null,"Technical Information ","(preliminary results, non audited)"]
[]
[null,"Τεχνικές Πληροφορίες ","(προκαταρκτικά αποτελέσματα, μη ελεγμένα) "]
[]
[]
[]
[null,null,"A&H","MOTOR","M.A.T.","FIRE","LIABILITY","CREDIT","OTHER","Semi Annual 2018","Semi Annual 2017"]
[]
[null,"No of Claims Reported ",230343,36927,138,4239,2017,0,244,{"$f":"SUM(C16:I16)","v":273908},244131]
[null,"No of Policies in-force at 01/01",144350,555261,5146,231048,56854,96,2695,{"$f":"SUM(C17:I17)","v":995450},955103]
[null,"No of Policies in-force at 31/12",135519,517641,4036,217416,47234,99,4441,{"$f":"SUM(C18:I18)","v":926386},995744]
[null,"Premiums earned",72762463.192636907,83293267.735758364,1814878.5951477357,51759686.803728849,21041003.232169472,51415.239811643834,2697102.8328367579,{"$f":"SUM(C19:I19)","v":233419817.6320897},224992088.53218317]
[]
[null,"Average Premium ",{"$f":"C19/AVERAGE(C17:C18)*2","v":1039.9503080746622},310.53448585521647,790.62452413318908,461.66191091127803,808.5851676339048,1054.6715858798734,1511.8289421730706,485.82671493736137,461.32185359935079]
[null,"Claim Frequency",null,{"$f":"D16/AVERAGE(D17:D18)*2","v":0.13767147418869571},6.0117621433238948E-2,3.7809054907417317E-2,7.7511336561371144E-2,0,0.1367713004484305,0.57009651187718413,0.50056411394640377]
[]
[]
[null,"Notes:"]
[null,"* Data for preparing these results are based on records of companies representing 96% marketshare of the non-life market."]

{"sheet":"Life Premiums","index":5,"n_rows":76,"n_cols":9,"rows_kept":76,"cut":false,"hidden":false,"merged":[]}
[]
[]
[]
[]
[]
[]
[null,"FINANCIAL PERIOD (ΟΙΚΟΝΟΜΙΚΗ ΠΕΡΙΟΔΟΣ) : 01/01/18 - 30/06/18"]
[null,"CURRENCY (ΝΟΜΙΣΜΑ) :  EURO (ΕΥΡΩ)"]
[]
[null,"TOTAL GROSS  PREMIUMS - LIFE ",null,null,"(preliminary results, non audited)"]
[null,"Total gross  premiums before deduction of reinsurance (including policy Fees) "]
[null,"Excluding A&H premiums by Life Companies"]
[]
[null,"ΣΥΝΟΛΟ ΜΙΚΤΩΝ  ΑΣΦΑΛΙΣΤΡΩΝ – ΚΛΑΔΟΥ ΖΩΗΣ      (προκαταρκτικά αποτελέσματα μη ελεγμένα)"]
[null,"Σύνολο μικτών  ασφαλίστρων πριν την αφαίρεση της αντασφάλισης συμπεριλαμβανομένων των δικαιωμάτων συμβολαίων."]
[null,"Μη συμπεριλαμβανομένων ασφαλίστρων Ατυχημάτων και Υγείας από Εταιρείες Ζωής"]
[]
[]
[null,null,"Life policies","Group Pension Plans","TOTAL Semi Annual 2018","TOTAL Semi Annual 2017","% Change","Market share Semi Annual 2018","Market share Semi Annual 2017"]
[null,"ALLIANZ HELLAS",397198.17000000004,0,{"$f":"C20+D20","v":397198.17000000004},226709.34,{"$f":"(E20-F20)/F20","v":0.7520150250536658},{"$f":"E20/$E$31","v":1.9108860508929557E-3},{"$f":"F20/$F$31","v":1.1998170897851788E-3}]
[null,"ALTIUS INSURANCE",6554892.5517808236,0,{"$f":"C21+D21","v":6554892.5517808236},6273757.3247945262,{"$f":"(E21-F21)/F21","v":4.481130085717891E-2},{"$f":"E21/$E$31","v":3.1535021277414511E-2},3.3202695819472709E-2]
[null,"ETHNIKI INSURANCE",4531824,0,4531824,4064097,0.1150875581955844,2.1802213405721173E-2,2.1508478808789599E-2]
[null,"EUROLIFE",44610840.800000004,626320.87,45237161.670000002,42062841.155000001,7.5466146076598767E-2,0.2176320732222721,0.2226097771829266]
[null,"HELLENIC ALICO",6863124.8499999996,0,6863124.8499999996,6828288.5599999987,5.1017600814457931E-3,3.3017900211881154E-2,3.6137449424327325E-2]
[null,"CNP CYPRIALIFE",42708481,162748,42871229,38279633,0.11994879888216274,0.20624977572464029,{"$f":"F25/$F$31","v":0.20258785043485503}]
[null,"METLIFE",11324655.07,0,11324655.07,10870101.99,4.1816818316715729E-2,5.4481936320192985E-2,5.7527996576188178E-2]
[null,"MINERVA",217129,0,217129,258918,-0.16139858951482708,1.0445888442646564E-3,1.3702754427894277E-3]
[null,"PRIME INSURANCE",13413564.267504226,0,13413564.267504226,12921808.813350685,3.8056239746053558E-2,6.4531497845345093E-2,6.8386274007038672E-2]
[null,"UNIVERSAL LIFE",62028117.440000013,459634,62487751.440000013,58419096.049999997,6.9645983335957756E-2,0.30062316897976199,0.30917221941800827]
[null,"ANCORIA",3154674.23,10807526.02,13962200.25,8748000,0.59604483882030179,6.7170938117613016E-2,4.6297165795819196E-2]
[null,"TOTAL ",{"$f":"SUM(C20:C30)","v":195804501.37928507},{"$f":"SUM(D20:D30)","v":12056228.890000001},{"$f":"C31+D31","v":207860730.26928508},{"$f":"SUM(F20:F30)","v":188953251.23314518},{"$f":"(E31-F31)/F31","v":0.10006432232706275},{"$f":"C31/$C$31","v":1},1]
[]
[null,"% Change Semi Annual 2018",{"$f":"E31/F31-1","v":0.10006432232706275}]
[null,"% Change Semi Annual 2017",8.3450796094235669E-2]
{"$rows_empty":13}
[null,"FINANCIAL PERIOD (ΟΙΚΟΝΟΜΙΚΗ ΠΕΡΙΟΔΟΣ) : 01/01/18 - 30/06/18"]
[null,"CURRENCY (ΝΟΜΙΣΜΑ) :  EURO (ΕΥΡΩ)"]
[]
[null,"TOTAL GROSS  PREMIUMS - LIFE ",null,null,"(preliminary results, non audited)"]
[null,"Total gross  premiums before deduction of reinsurance (including policy Fees) "]
[null,"Including A&H premiums by Life Companies"]
[]
[null,"ΣΥΝΟΛΟ ΜΙΚΤΩΝ  ΑΣΦΑΛΙΣΤΡΩΝ – ΚΛΑΔΟΥ ΖΩΗΣ      (προκαταρκτικά αποτελέσματα μη ελεγμένα)"]
[null,"Σύνολο μικτών  ασφαλίστρων πριν την αφαίρεση της αντασφάλισης συμπεριλαμβανομένων των δικαιωμάτων συμβολαίων."]
[null,"Συμπεριλαμβανομένων ασφαλίστρων Ατυχημάτων και Υγείας από Εταιρείες Ζωής"]
[]
[]
[]
[null,null,"Life policies","Group Pension Plans","TOTAL Semi Annual 2018","TOTAL Semi Annual 2017","% Change","Market share Semi Annual 2018","Market share Semi Annual 2017"]
[null,"ALLIANZ HELLAS",425999.26000000007,0,{"$f":"D62+C62","v":425999.26000000007},194742.52999999997,{"$f":"(E62-F62)/F62","v":1.1874998748347376},{"$f":"E62/$E$73","v":1.5885939086647059E-3},{"$f":"F62/$F$73","v":8.091812708341707E-4}]
[null,"ALTIUS INSURANCE",10930399.534849318,0,{"$f":"D63+C63","v":10930399.534849318},9949771.4494246598,{"$f":"(E63-F63)/F63","v":9.8557850339503247E-2},{"$f":"E63/$E$73","v":4.0760554655266679E-2},{"$f":"F63/$F$73","v":4.1342631760792038E-2}]
[null,"ETHNIKI INSURANCE",4531824,0,4531824,4064097,0.1150875581955844,1.6899625603904855E-2,1.6886866855706052E-2]
[null,"EUROLIFE",56037096.359999999,626320.87,56663417.229999997,50904469.905000001,0.11313244859926011,0.21130355826370387,0.21151488403107274]
[null,"HELLENIC ALICO",7139508.3300000001,0,7139508.3300000001,7093625.9699999988,6.4681109765364854E-3,2.6623941656375005E-2,2.9474965110224648E-2]
[null,"CNP CYPRIALIFE",50027367,162748,50190115,44924260,0.11721628803679794,0.18716396588149256,0.1866663116581915]
[null,"METLIFE",22928112.379999999,0,22928112.379999999,20631716.370000005,0.11130416727418367,8.5501227546845568E-2,8.5727542267047527E-2]
[null,"MINERVA",594699,0,594699,659922,-9.88344077027285E-2,2.217692136106039E-3,2.7420642147939008E-3]
[null,"PRIME INSURANCE",14094585.617504226,0,14094585.617504226,13655789.463350685,3.2132609786580182E-2,5.2560121482653238E-2,5.6741632514469169E-2]
[null,"UNIVERSAL LIFE",86240712.410000011,459634,86700346.410000011,79839741.590000004,8.5929697208079442E-2,0.32331427567748805,0.33174480973862264]
[null,"ANCORIA",3154674.23,10807526.02,{"$f":"D72+C72","v":13962200.25},8748000,0.59604483882030179,5.2066443187499506E-2,3.6349110578245677E-2]
[null,"TOTAL",{"$f":"SUM(C62:C72)","v":256104978.12235358},{"$f":"SUM(D62:D72)","v":12056228.890000001},{"$f":"SUM(E62:E72)","v":268161207.01235354},{"$f":"SUM(F62:F72)","v":240666136.27777535},{"$f":"(E73-F73)/F73","v":0.11424569804388081},{"$f":"C73/$C$73","v":1},1]
[]
[null,"% Change Semi Annual 2018",{"$f":"E73/F73-1","v":0.11424569804388085}]
[null,"% Change Semi Annual 2017",8.882006769341988E-2]

{"sheet":"Life Premiums incl A&H","index":6,"n_rows":34,"n_cols":11,"rows_kept":34,"cut":false,"hidden":false,"merged":[[15,1,15,10],[16,1,16,10],[17,3,17,6],[17,7,17,10],[18,1,19,1],[18,2,19,2],[18,6,19,6],[18,10,19,10],[19,3,19,5],[19,7,19,9]]}
[]
[]
[]
[]
[null,"FINANCIAL PERIOD (ΟΙΚΟΝΟΜΙΚΗ ΠΕΡΙΟΔΟΣ) : 01/01/18 - 30/06/18"]
[null,"CURRENCY (ΝΟΜΙΣΜΑ) :  EURO (ΕΥΡΩ)"]
[]
[null,"TOTAL GROSS PREMIUMS - LIFE ",{"$nulls":4},"(preliminary results, non audited)"]
[null,"Total gross  premiums before deduction of reinsurance (including policy Fees) "]
[null,"Including A&H premiums by Life Companies"]
[]
[null,"ΣΥΝΟΛΟ ΜΙΚΤΩΝ  ΑΣΦΑΛΙΣΤΡΩΝ – ΚΛΑΔΟΥ ΖΩΗΣ "]
[null,"Σύνολο μικτών  ασφαλίστρων πριν την αφαίρεση της αντασφάλισης συμπεριλαμβανομένων των δικαιωμάτων συμβολαίων."]
[null,"Συμπεριλαμβανομένων ασφαλίστρων Ατυχημάτων και Υγείας από Εταιρείες Ζωής"]
[]
[null,"TOTAL GROSS  PREMIUMS BY LIFE  COMPANIES "]
[null,"Life and P.A. & Health"]
[null,null,null,"Semi Annual 2018",null,null,null,"Semi Annual 2017"]
[null,"NO.","LIFE  COMPANIES","LIFE","A&H","TOTAL","market share        %","LIFE","A&H","TOTAL","market share        %"]
[null,null,null,"€ 000s",null,null,null,"€ 000s"]
[null,1,"ALLIANZ",{"$f":"'Life Premiums'!E20/1000","v":397.19817000000006},28.801090000000027,{"$f":"D21+E21","v":425.99926000000011},{"$f":"F21/$F$34*100","v":0.15017354920135828},226.70934,-31.966810000000027,{"$f":"I21+H21","v":194.74252999999996},{"$f":"J21/$J$34*100","v":7.6286165812943771E-2}]
[null,2,"ALTIUS INSURANCE",{"$f":"'Life Premiums'!E21/1000","v":6554.8925517808239},4375.5069830684943,{"$f":"D22+E22","v":10930.399534849319},{"$f":"F22/$F$34*100","v":3.8531918866178252},6273.7573247945265,3676.0141246301337,{"$f":"I22+H22","v":9949.7714494246611},3.897607341301891]
[null,3,"ETHNIKI INS.",{"$f":"'Life Premiums'!E22/1000","v":4531.8239999999996},0,4531.8239999999996,{"$f":"F23/$F$34*100","v":1.597561682233664},4064.0970000000002,0,4064.0970000000002,1.5920219256773929]
[null,4,"EUROLIFE",{"$f":"'Life Premiums'!E23/1000","v":45237.161670000001},11426.255559999994,56663.417229999992,19.975026424474294,41737.403155,8841.6287499999999,50579.031904999996,19.81323963780795]
[null,5,"HELLENIC ALICO LIFE",{"$f":"'Life Premiums'!E24/1000","v":6863.1248499999992},276.38348000000047,7139.5083299999997,2.5168243378374928,6828.2885599999991,265.33741000000015,7093.6259699999991,2.778774245987377]
[null,6,"CNP CYPRIALIFE",{"$f":"'Life Premiums'!E25/1000","v":42871.228999999999},7318.8860000000004,50190.114999999998,17.693053514633636,38262.497000000003,6644.6270000000004,44907.124000000003,17.591392633373037]
[null,7,"METLIFE ",{"$f":"'Life Premiums'!E26/1000","v":11324.655070000001},11603.457309999998,22928.112379999999,8.0826337881248911,10870.101990000001,9761.6143800000045,20631.716370000006,8.0820277728108341]
[null,8,"MINERVA INSURANCE",{"$f":"'Life Premiums'!E27/1000","v":217.12899999999999},377.57,594.69899999999996,0.20964369641510305,258.91800000000001,401.00400000000002,659.92200000000003,0.25851014216365314]
[null,9,"PRIME",{"$f":"'Life Premiums'!E28/1000","v":13413.564267504227},681.02134999999964,14094.585617504226,4.9686329189938672,12921.808813350684,733.98065000000042,13655.789463350684,5.3493595842049544]
[null,10,"UNIVERSAL LIFE",{"$f":"'Life Premiums'!E29/1000","v":62487.751440000015},24212.594969999998,{"$f":"D30+E30","v":86700.346410000013},30.563665151382992,57963.953049999996,21420.645540000005,79384.598590000009,31.097196133945289]
[null,11,"ANCORIA",{"$f":"'Life Premiums'!E30/1000","v":13962.20025},0,{"$f":"D31+E31","v":13962.20025},4.9219643390990662,8748,0,8748,{"$f":"J31/$J$34*100","v":3.4268394198824068}]
[null,null,"Total Life Companies",{"$f":"SUM(D21:D31)","v":207860.73026928506},{"$f":"SUM(E21:E31)","v":60300.476743068488},{"$f":"D32+E32","v":268161.20701235358},{"$f":"SUM(G21:G31)","v":94.532371289014193},{"$f":"SUM(H21:H31)","v":188155.53423314521},{"$f":"SUM(I21:I31)","v":51712.885044630151},{"$f":"I32+H32","v":239868.41927777536},{"$f":"SUM(K21:K31)","v":93.963255002967728}]
[null,null,"Total Non-life Companies","-",15510.093470000007,{"$f":"E33","v":15510.093470000007},{"$f":"F33/$F$34*100","v":5.4676287109858155},"-",15410.539789999981,{"$f":"I33","v":15410.539789999981},{"$f":"J33/J34*100","v":6.0367449970322689}]
[null,null,"TOTAL PREMIUMS",{"$f":"D32","v":207860.73026928506},{"$f":"E32+E33","v":75810.570213068495},{"$f":"D34+E34","v":283671.30048235354},{"$f":"SUM(G32:G33)","v":100.00000000000001},{"$f":"H32","v":188155.53423314521},{"$f":"I32+I33","v":67123.424834630132},{"$f":"H34+I34","v":255278.95906777534},{"$f":"K32+K33","v":100}]

{"sheet":"Life Claims ","index":7,"n_rows":33,"n_cols":18,"rows_kept":33,"cut":false,"hidden":false,"merged":[[9,1,9,3],[14,1,14,3]]}
[]
[]
[]
[]
[]
[null,null,"FINANCIAL PERIOD (ΟΙΚΟΝΟΜΙΚΗ ΠΕΡΙΟΔΟΣ) : 01/01/18 - 30/06/18"]
[null,null,"CURRENCY (ΝΟΜΙΣΜΑ) :  EURO (ΕΥΡΩ)"]
[]
[]
[]
[null,null,"GROSS CLAIMS INCURRED ANALYSIS BY TYPE OF CLAIM - LIFE BUSINESS (preliminary results, non audited)"]
[]
[null,null,"ΜΕΙΚΤΕΣ ΠΡΑΓΜΑΤΟΠΟΙΗΘΕΙΣΕΣ ΑΠΑΙΤΗΣΕΙΣ ΚΛΑΔΟΥ ΖΩΗΣ ΑΝΑ ΤΥΠΟ ΑΠΑΙΤΗΣΗΣ  (προκαταρκτικά αποτελέσματα, μη ελεγμένα)"]
[]
[{"$nulls":4},"Allianz","Altius","Ethniki","Eurolife","Prime","Cyprialife","Hellenic Alico","Metlife","Minerva","Universal Life","Ancoria","Total     Semi Annual 2018","Total     Semi Annual 2017","% Change"]
[]
[null,null,"Gross Claims Incurred"]
[]
[null,null,"Regular premium policies:"]
[null,null,"      1) Death Claims"]
[null,null,"           A) Number of claims",null,60,7,4,79,11,21,20,27,5,145,1,{"$f":"SUM(E21:O21)","v":380},1110,{"$f":"P21/Q21-1","v":-0.6576576576576576}]
[null,null,"           B) Amount payable",null,2783696.43,361242.05,553241,3825113.61,554165.66999999993,2641350,721861.88,363415.38000000006,1212490,8262574.1000000015,64000,{"$f":"SUM(E22:O22)","v":21343150.120000005},21182704.209999997,{"$f":"P22/Q22-1","v":7.5743827799032992E-3}]
[null,null,"      2) Maturitites"]
[null,null,"           A) Number of claims",null,2,8,5,221,43,410,13,387,8,412,0,{"$f":"SUM(E24:O24)","v":1509},1234,{"$f":"P24/Q24-1","v":0.22285251215559154}]
[null,null,"           B) Amount payable",null,22404.780000000002,202117.15000000002,87028,1970299.07,297519.27,5179932,235999.67999999996,4667005.2499999991,273522.53999999998,7083744.7200000007,0,{"$f":"SUM(E25:O25)","v":20019572.460000001},19966681.18,{"$f":"P25/Q25-1","v":2.6489770394582113E-3}]
[null,null,"      3) Surrenders"]
[null,null,"           A) Number of claims",null,2,119,195,1573,558,1158,42,324,27,833,253,{"$f":"SUM(E27:O27)","v":5084},5678,{"$f":"P27/Q27-1","v":-0.10461430081014444}]
[null,null,"           B) Amount payable",null,5110.4799999999996,1272251.7400000002,915921,17587407.789999999,4053057.5300000003,14012121,336542.88999999996,4418036.29,169733.00000000003,8908750.4600000009,1121000,{"$f":"SUM(E28:O28)","v":52799932.18},54340996.669999994,{"$f":"P28/Q28-1","v":-2.8359150262894817E-2}]
[null,null,"      4) Other insured events"]
[null,null,"           A) Number of claims",null,0,1646,145,84,"-",548,17,12,10,26,0,{"$f":"SUM(E30:O30)","v":2488},3462,{"$f":"P30/Q30-1","v":-0.2813402657423455}]
[null,null,"           B) Amount payable",null,0,1021813.3399999964,78480,1794240.77,2270893.79,6028804,652955.91999999993,5576.12,75098.97,1019275.66,0,{"$f":"SUM(E31:O31)","v":12947138.569999997},11514576.658355676,{"$f":"P31/Q31-1","v":0.12441290323989174}]
[]
[null,null,"Total Amount Payable:",null,{"$f":"E31+E28+E25+E22","v":2811211.69},{"$f":"F31+F28+F25+F22","v":2857424.2799999961},{"$f":"G31+G28+G25+G22","v":1634670},25177061.239999998,7175636.2599999998,27862207,1947360.3699999996,9454033.040000001,1730844.51,25274344.940000005,1185000,{"$f":"SUM(E33:O33)","v":107109793.33000001},107004958.71835567,{"$f":"P33/Q33-1","v":9.7971732244928056E-4}]

{"sheet":"Life New Business","index":8,"n_rows":33,"n_cols":18,"rows_kept":33,"cut":false,"hidden":false,"merged":[[9,1,9,3],[11,1,11,3],[15,1,15,3],[30,2,31,2]]}
[]
[]
[]
[]
[]
[null,null,"FINANCIAL PERIOD (ΟΙΚΟΝΟΜΙΚΗ ΠΕΡΙΟΔΟΣ) : 01/01/18 - 30/06/18"]
[null,null,"CURRENCY (ΝΟΜΙΣΜΑ) :  EURO (ΕΥΡΩ)"]
[]
[null,"ANALYSIS OF NEW BUSINESS -INDIVIDUAL POLICIES",{"$nulls":4},"(preliminary results, non audited)"]
[]
[null,"ΑΝΑΛΥΣΗ ΝΕΩΝ ΕΡΓΑΣΙΩΝ – ΑΤΟΜΙΚΑ ΣΥΜΒΟΛΑΙΑ  (προκαταρκτικά αποτελέσματα μη ελεγμένα)"]
[]
[]
[]
[]
[{"$nulls":4},"Allianz","Altius","Ethniki","Eurolife","Prime","Cyprialife","Hellenic Alico","Metlife","Minerva","Universal Life","Ancoria","Total        Semi Annual 2018","Total          Semi Annual 2017","% Change"]
[]
[null,null,"NEW BUSINESS (INDIVIDUAL): "]
[null,null,"Regular premium policies:"]
[null,null,"      1) Unit-linked contracts"]
[null,null,"           A) Number of contracts",null,86,285,316,2738,1158,2147,71,888,0,1494,0,{"$f":"SUM(E21:O21)","v":9183},8437,{"$f":"P21/Q21-1","v":8.8420054521749503E-2}]
[null,null,"           B) Annual gross written premiums ",null,-9527.74,1140263.3899999997,514620,4576655.58,1831990.6664903215,5761949,41839.598951477776,1060107.9300448911,0,2705711,0,{"$f":"SUM(E22:O22)","v":17623609.425486691},14947392.310414707,{"$f":"P22/Q22-1","v":0.17904240816689532}]
[null,null,"      2) Other life contracts"]
[null,null,"           A) Number of contracts",null,613,263,132,1151,392,526,0,462,0,218,0,{"$f":"SUM(E24:O24)","v":3757},3855,{"$f":"P24/Q24-1","v":-2.5421530479896259E-2}]
[null,null,"           B) Annual gross written premiums ",null,218224.25999999998,837561.32000000111,80398,554820.90999999992,244197.60350967664,531108,0,262975.81169766048,0,177932,0,{"$f":"SUM(E25:O25)","v":2907217.9052073383},3078805.3122421666,{"$f":"P25/Q25-1","v":-5.5731814659585655E-2}]
[]
[null,null,"TOTAL NEW BUSINESS PREMIUMS",null,{"$f":"E22+E25","v":208696.52},{"$f":"F25+F22","v":1977824.7100000009},595018,5131476.49,2076188.2699999982,6293057,41839.598951477776,1323083.7417425516,0,2883643,0,{"$f":"SUM(E27:O27)","v":20530827.330694027},18026197.622656874,{"$f":"P27/Q27-1","v":0.13894387271606967}]
[]
[null,null,"Single premium policies:"]
[null,null,"A) Number of contracts",null,0,0,0,21,8,18,0,15,0,174,135,{"$f":"SUM(E30:O30)","v":371},216,{"$f":"P30/Q30-1","v":0.71759259259259256}]
[null,null,"B) Single premiums (incl. additional lump sum premiums on existing policies)",null,0,298845.53000000014,531184,2535754.2200000002,828066.25,2802947,238542.77,403448.85,0,5157612,3155000,{"$f":"SUM(E31:O31)","v":15951400.619999999},8074371.8600000003,{"$f":"P31/Q31-1","v":0.97555932480919938}]
[]
[null,null,"TOTAL NEW BUSINESS PREMIUMS",null,{"$f":"E31+E27","v":208696.52},{"$f":"F31+F27","v":2276670.2400000012},{"$f":"G31+G27","v":1126202},7667230.7100000009,2904254.5199999982,9096004,280382.36895147775,1726532.5917425514,0,{"$f":"N31+N27","v":8041255},{"$f":"O31+O27","v":3155000},{"$f":"SUM(E33:O33)","v":36482227.950694032},26100569.482656877,{"$f":"P33/Q33-1","v":0.39775601352052825}]

{"sheet":"Life In Force Business","index":9,"n_rows":46,"n_cols":18,"rows_kept":46,"cut":false,"hidden":false,"merged":[[9,1,9,3],[11,1,11,3],[15,1,15,3]]}
[]
[]
[]
[]
[]
[null,null,"FINANCIAL PERIOD (ΟΙΚΟΝΟΜΙΚΗ ΠΕΡΙΟΔΟΣ) : 01/01/18 - 30/06/18"]
[null,null,"CURRENCY (ΝΟΜΙΣΜΑ) :  EURO (ΕΥΡΩ)"]
[]
[null,"MOVEMENTS OF BUSINESS IN FORCE  - LIFE BUSINESS (preliminary results, non audited)"]
[]
[null,"ΜΕΤΑΒΟΛΕΣ ΕΡΓΑΣΙΩΝ ΣΕ ΙΣΧΥ (προκαταρκτικά αποτελέσματα,μη ελεγμένα)"]
[]
[]
[]
[]
[{"$nulls":4},"Allianz","Altius","Ethniki","Eurolife","Prime","Cyprialife","Hellenic Alico","Metlife","Minerva","Universal Life","Ancoria","Total        Semi Annual 2018","Total          Semi Annual 2017","% Change"]
[]
[null,null,"1) IN FORCE BUSINESS (INDIVIDUAL): "]
[]
[null,null,"      1) In force at start of Period"]
[null,null,"           A) Number of contracts",null,732,7625,6339,75083,20736,47637,2286,23665,750,37275,330,{"$f":"SUM(E21:O21)","v":222458},217509,{"$f":"P21/Q21-1","v":2.2753081481685866E-2}]
[null,null,"           B) Annual  premiums ",null,262121.52000000005,10195090.047691319,7199561,75912342.88000001,25043819.269999899,72088444,2210304.9062622772,20999100.52267291,517202.97000000015,40123595.109999999,701000,{"$f":"SUM(E22:O22)","v":255252582.2266264},244549728.91892806,{"$f":"P22/Q22-1","v":4.376554966964008E-2}]
[null,null,"      2) New Business plus Reinst & alterations on"]
[null,null,"           A) Number of contracts",null,0,599,474,3910,1544,2694,71,1402,0,2053,24,{"$f":"SUM(E24:O24)","v":12771},12258,{"$f":"P24/Q24-1","v":4.1850220264317173E-2}]
[null,null,"           B) Annual  premiums ",null,0,2150908.870000001,558225,5131476.49,1882191.1800000034,6295004,405899.32698772236,1341306.3826285515,877.03999999999849,3127134.2100000009,2453000,{"$f":"SUM(E25:O25)","v":23346022.49961628},19766810.302502766,{"$f":"P25/Q25-1","v":0.18107181393147354}]
[null,null,"      3) Deaths and other insured events"]
[null,null,"           A) Number of contracts",null,0,4,1,47,11,22,0,16,4,31,1,{"$f":"SUM(E27:O27)","v":137},167,{"$f":"P27/Q27-1","v":-0.17964071856287422}]
[null,null,"           B) Annual  premiums ",null,0,6884.16,600,136024.26799999998,17558.04,27563,0,10292.847889188954,25025.21,34363.799999999996,0,{"$f":"SUM(E28:O28)","v":258311.32588918894},474085.34341817698,{"$f":"P28/Q28-1","v":-0.45513749902759604}]
[null,null,"      4) Maturities and Surrenders"]
[null,null,"           A) Number of contracts",null,53,127,150,1841,601,1568,55,543,35,1235,7,{"$f":"SUM(E30:O30)","v":6215},6354,{"$f":"P30/Q30-1","v":-2.1875983632357543E-2}]
[null,null,"           B) Annual  premiums ",null,-19928.140000000043,1464478.8200000003,221427,2600700.8899999997,702965.4999999993,2013695,71567.821249999994,517535.3701394191,20073.41,1194762.23,0,{"$f":"SUM(E31:O31)","v":8787277.9013894182},9949567.8656370938,{"$f":"P31/Q31-1","v":-0.11681813521388063}]
[null,null,"      5) Lapses-Expiries Other reductions & alterations off"]
[null,null,"           A) Number of contracts",null,0,407,228,1084,457,547,5,496,11,560,0,{"$f":"SUM(E33:O33)","v":3795},3810,{"$f":"P33/Q33-1","v":-3.937007874015741E-3}]
[null,null,"           B) Annual  premiums ",null,0,417396.516157837,210998,390758.65199999511,371394.25,1704011,0,355581.71561711153,12962.570864825704,1174878.9700000063,0,{"$f":"SUM(E34:O34)","v":4637981.6746397754},4685727.4509586561,{"$f":"P34/Q34-1","v":-1.0189618755805485E-2}]
[null,null,"      6) In force at end of period"]
[null,null,"           A) Number of contracts",null,785,7686,6434,76021,21211,48194,2307,24012,700,37502,346,{"$f":"SUM(E36:O36)","v":225198},219344,{"$f":"P36/Q36-1","v":2.6688671675541675E-2}]
[null,null,"           B) Annual  premiums ",null,242193.38,10457239.421533484,7324761,77916335.560000002,25834092.659999903,74638179,2544636.4119999995,21456996.971655674,460018.81913517445,40846724.32,3154000,{"$f":"SUM(E37:O37)","v":264875177.54432425},249124390.76141697,{"$f":"P37/Q37-1","v":6.3224587262479703E-2}]
[]
[null,null,"2) IN FORCE BUSINESS (GROUP): "]
[]
[null,null,"      1) In force at start of Period"]
[null,null,"           A) Number of policies",null,0,50,27,64,11,149,57,435,0,83,1300,{"$f":"SUM(E42:O42)","v":2176},1314,{"$f":"P42/Q42-1","v":0.65601217656012167}]
[null,null,"           B) Annual  premiums ",null,0,2418797.9454357787,471676,7102533.2800000012,44861,5990806,8337604.3699999992,1121442.21,0,37576939.700000003,9770280,{"$f":"SUM(E43:O43)","v":72834940.50543578},28334585.57853118,{"$f":"P43/Q43-1","v":1.5705313495257913}]
[null,null,"      2) In force at end of report period"]
[null,null,"           A) Number of policies",null,0,50,27,60,8,164,57,420,0,86,1545,{"$f":"SUM(E45:O45)","v":2417},1077,{"$f":"P45/Q45-1","v":1.2441968430826371}]
[null,null,"           B) Annual  premiums ",null,0,2377059.6628117017,284429,6613036.2599999998,43699.97,6240654,7959073.8300000001,1049844.1000000001,0,37746057.589999996,1037000,{"$f":"SUM(E46:O46)","v":63350854.412811697},67238101.942300484,{"$f":"P46/Q46-1","v":-5.7813165708106684E-2}]

{"sheet":"L Technical Account","index":10,"n_rows":55,"n_cols":16,"rows_kept":55,"cut":false,"hidden":false,"merged":[[13,1,13,3]]}
[]
[]
[]
[]
[]
[null,null,"FINANCIAL PERIOD (ΟΙΚΟΝΟΜΙΚΗ ΠΕΡΙΟΔΟΣ) : 01/01/18 - 30/06/18"]
[null,null,"CURRENCY (ΝΟΜΙΣΜΑ) :  EURO (ΕΥΡΩ)"]
[]
[]
[null,null,"TECHNICAL ACCOUNTS   LIFE BUSINESS (preliminary results, non audited)          "]
[]
[null,null,"ΤΕΧΝΙΚΟΙ ΛΟΓΑΡΙΑΣΜΟΙ ΚΛΑΔΟΥ ΖΩΗΣ  (προκαταρκτικά αποτελέσματα, μη ελεγμένα)"]
[]
[{"$nulls":4},"Altius","Ethniki","Eurolife","Prime","Cyprialife","Hellenic Alico","Metlife","Minerva","Universal Life","Ancoria","Total        Semi Annual 2018","Total          Semi Annual 2017"]
[]
[null,null,"Premiums"]
[]
[null,null,"Gross Premiums",null,6554892.5517808236,4531824,44610840.800000004,13413564.267504226,42871229,6863124.8499999996,11324655.07,217129,62028117.440000013,13963000,{"$f":"SUM(E18:N18)","v":206378376.97928506},187928824.8931452]
[null,null,"Reinsurance",null,1192631.2550957315,759894,7843746.5799999982,1338075.9000000022,4868500,1387461.5,0,35936,27642943.959999993,0,{"$f":"SUM(E19:N19)","v":45069189.195095725},55147916.287221134]
[null,null,"Net Premiums Earned",null,5362261.2966850922,3771930,36767094.220000006,12075488.367504224,38002729,5475663.3499999996,11324655.07,181193,34385173.480000019,13963000,{"$f":"SUM(E20:N20)","v":161309187.78418934},132521990.60592407]
[]
[null,null,"Claims"]
[]
[null,null,"Gross Claims incured",null,2857424.2799999965,1561767,25177061.239999998,2825059.46,27862207,1374817.8,9454033.040000001,1730845,30728755.354246575,1185000,{"$f":"SUM(E24:N24)","v":104756970.17424656},106176569.73835567]
[null,null,"Reinsurers' share of Claims",null,702336.22666666564,452754,2963820.3000000007,736640.27,1805418,1137591.03,-90701.339999997988,1107892,12024295.932821918,0,{"$f":"SUM(E25:N25)","v":20840046.419488586},29628033.606500003]
[null,null,"Net Claims Incurred",null,2155088.0533333309,1109013,22213240.939999998,2088419.19,26056789,237226.77000000002,9544734.379999999,622953,18704459.421424657,1185000,{"$f":"SUM(E26:N26)","v":83916923.754757985},76548536.131855667]
[]
[null,null,"Expenses"]
[]
[null,null," Commissions - Acquisition",null,379307.7337747424,377377,3612724.2900000005,1864894.1900000006,2804479,51194.047519286629,628676.03,0,1593711.7399999993,0,{"$f":"SUM(E30:N30)","v":11312364.031294029},16074725.567861032]
[null,null," Commissions - Renewal ",null,332451.39303461532,246386,1513783.1600000001,398934.22,1654894,689162.24248071294,339095.79,10264,7452962.96,0,{"$f":"SUM(E31:N31)","v":12637933.765515327},6125723.0372968586]
[null,null," Management expenses - Acquisition",null,780922.06633016188,462620,2350591.9713061326,708098.36497677176,2323836.4499999997,37957.040000000001,730519.29841452395,0,1345683.0654795005,132000,{"$f":"SUM(E32:N32)","v":8872228.2565070894},8451261.4242000505]
[null,null," Management expenses - Renewal",null,450259.88905286416,467270,2530315.2186938669,1191875.4434239895,2840244.5500000003,791764.6979126652,1214436.0202185579,41904,1548259.0108205001,195000,{"$f":"SUM(E33:N33)","v":11271328.830122445},10484974.834878769]
[null,null," Other Admin/Management Expenses",null,0,0,0,0,0,0,0,0,0,0,{"$f":"SUM(E34:N34)","v":0},0]
[]
[null,null,"Reinsurance Commission",null,132440.89985673269,289774,1235093.3499999996,0,1351849,0,-130378.85999999987,0,316447.41999999993,0,{"$f":"SUM(E36:N36)","v":3195225.8098567324},6765214.6405729074]
[]
[null,null,"Net Administration/Management Expenses and Commissions",null,1810500.182335651,1263879,8772321.290000001,4163802.2184007615,8271605,1570078.0279126647,3043105.9986330816,52168,11624169.3563,327000,{"$f":"SUM(E38:N38)","v":40898629.073582157},34371470.223663799]
[]
[null,null,"Investment Income"]
[]
[null,null,"Investment Income for Life business",null,389355.4752200431,256876,1954623.9,236196.94999999987,-616006.9,68624.039338571718,0,60338,337377.19,185000,{"$f":"SUM(E42:N42)","v":2872384.6545586144},4640953.9670585301]
[null,null,"Increase (decrease) in value of Life assets other than those in internal linked funds *",null,-75823.27,-63569,116758.44975999952,"n/a",576956.80000000005,0,0,0,-22434.243819068979,69187.703146041604,{"$f":"SUM(E43:N43)","v":601076.43908697215},733409.89994787972]
[null,null,"Increase (decrease) in value of Life assets in internal linked funds",null,476331.43999999994,-191053,-657374.4297599995,-50587.459999999846,888565.5,416348.50999999978,0,24960,-2491497.9999999995,2510505.8263484933,{"$f":"SUM(E44:N44)","v":926198.38658849429},27730089.624936674]
[]
[]
[null,null,"Other Items"]
[]
[null,null,"Other Income",null,0,611,2239378.1569028753,0,0,0,0,0,0,-49594.8,{"$f":"SUM(E49:N49)","v":2190394.3569028755},819254.5134892636]
[null,null,"Other Expenditure",null,-130.94999999999999,-3274,0,0,0,0,0,0,0,3055000,{"$f":"SUM(E50:N50)","v":3051595.05},430564.45]
[]
[null,null,"Underwiting Profit"]
[]
[null,null,"Underwriting Profit (before tax)",null,401975.16519732476,280093,7355294.2716956884,664419.01910346479,3100915,2312813.7300000014,0,5801.999999999478,414184.14632892609,153000,{"$f":"SUM(E54:N54)","v":14688496.332325406},15384673.160310376]
[null,null,"Underwriting Profit (after tax)",null,401975.16519732476,212115,6660022.661695688,463273.27910346485,2213766,1993026.3800000011,0,2545.0649999994785,-518134.14527107414,153000,{"$f":"SUM(E55:N55)","v":11581589.405725405},12714310.974560376]